BEGIN:VCALENDAR
VERSION:2.0
PRODID:-//ChurchDev//Events//EN
CALSCALE:GREGORIAN
METHOD:PUBLISH
BEGIN:VEVENT
UID:3700-20190904@www.oxfordnazarene.org
SUMMARY:The Notebook
DTSTART:20190904T130000Z
DTEND:20190904T140000Z
DESCRIPTION:https://www.oxfordnazarene.org/events/the-notebook-4/
LOCATION:116 E. Locust St. Oxford\, PA 19363
URL:https://www.oxfordnazarene.org/events/the-notebook-4/
DTSTAMP:20260420T100052Z
END:VEVENT
END:VCALENDAR
