BEGIN:VCALENDAR
VERSION:2.0
PRODID:-//ChurchDev//Events//EN
CALSCALE:GREGORIAN
METHOD:PUBLISH
BEGIN:VEVENT
UID:4260-20210620@www.oxfordnazarene.org
SUMMARY:Teen Camp
DTSTART;VALUE=DATE:20210620
DTEND;VALUE=DATE:20210621
DESCRIPTION:https://www.oxfordnazarene.org/events/teen-camp-4/
URL:https://www.oxfordnazarene.org/events/teen-camp-4/
DTSTAMP:20260423T081635Z
END:VEVENT
END:VCALENDAR
