BEGIN:VCALENDAR
VERSION:2.0
PRODID:-//ChurchDev//Events//EN
CALSCALE:GREGORIAN
METHOD:PUBLISH
BEGIN:VEVENT
UID:4668-20240524@www.oxfordnazarene.org
SUMMARY:Encounter &#8211\; ENC (District Event)
DTSTART;VALUE=DATE:20240524
DTEND;VALUE=DATE:20240525
DESCRIPTION:https://www.oxfordnazarene.org/events/encounter-enc-district-event/
LOCATION:116 E. Locust St. Oxford\, PA 19363
URL:https://www.oxfordnazarene.org/events/encounter-enc-district-event/
DTSTAMP:20260425T191342Z
END:VEVENT
END:VCALENDAR
