BEGIN:VCALENDAR
VERSION:2.0
PRODID:-//ChurchDev//Events//EN
CALSCALE:GREGORIAN
METHOD:PUBLISH
BEGIN:VEVENT
UID:4720-20241005@www.oxfordnazarene.org
SUMMARY:Boys\, Bikes\, Scooters &#038\; Hotdogs
DTSTART:20241005T150000Z
DTEND:20241005T170000Z
DESCRIPTION:https://www.oxfordnazarene.org/events/boys-bikes-scooters-hotdogs/
LOCATION:116 E. Locust St. Oxford\, PA 19363
URL:https://www.oxfordnazarene.org/events/boys-bikes-scooters-hotdogs/
DTSTAMP:20260423T093459Z
END:VEVENT
END:VCALENDAR
