BEGIN:VCALENDAR
VERSION:2.0
PRODID:-//ChurchDev//Events//EN
CALSCALE:GREGORIAN
METHOD:PUBLISH
BEGIN:VEVENT
UID:4737-20250510@www.oxfordnazarene.org
SUMMARY:Mug &#038\; Muffin
DTSTART;VALUE=DATE:20250510
DTEND;VALUE=DATE:20250511
DESCRIPTION:https://www.oxfordnazarene.org/events/mug-muffin-2/
LOCATION:116 E. Locust St. Oxford\, PA 19363
URL:https://www.oxfordnazarene.org/events/mug-muffin-2/
DTSTAMP:20260421T000542Z
END:VEVENT
END:VCALENDAR
